BEGIN:VCALENDAR
VERSION:2.0
PRODID:-//wp-events-plugin.com//7.2.3.1//EN
TZID:Europe/Vienna
X-WR-TIMEZONE:Europe/Vienna
BEGIN:VEVENT
UID:96@freiraum-stp.at
DTSTART;TZID=Europe/Vienna:20240113T203000
DTEND;TZID=Europe/Vienna:20240113T203000
DTSTAMP:20240926T082006Z
URL:https://www.freiraum-stp.at/veranstaltungen/billie-steirisch-trifft-ri
 ngelspue/
SUMMARY:Billie Steirisch trifft Ringelsp&uuml\;
DESCRIPTION:Billie Steirisch\nBillie Steirisch ist das verrückte „Alter 
 Ego“ der Sängerin und Schauspielerin Gini Lampl. Billie ist Satire\, Co
 medy und Musik in einem. Das dynamische Multitalent war bereits in ihrer K
 indheit und Jugend sehr oft zu laut\, zu anders. Genau dieses „Anderssei
 n“ will Gini kreativ ausleben\, indem sie Billie Steirisch - und damit i
 hrer wilden Seite - eine Bühne bietet.\nBekannt wurde Billie Steirisch du
 rch die Onlineplattform „TikTok“\, wo sie im ersten Corona-Lockdown an
 fing\, englische Songs auf Steirisch zu interpretieren und Beziehungstheme
 n auf lustige und humorvolle Art und Weise darzustellen. Erste virale Vide
 os ließen nicht lange auf sich warten und die Anzahl von Billies Follower
 *innen wuchs in kurzer Zeit auf mittlerweile über 165.000. Weitere 48.000
  Menschen folgen Billie inzwischen auch auf Instagram\, wo sie seit Mai 20
 22 ebenfalls ihre Musik &amp\; Comedyreels veröffentlicht.\n\nRingelspü\
 nAlles einsteigen\, bitte! Die Mostviertler Vollblutmusiker Urge Kirchner 
 und Mario Schagerl werden zu Ringelspü. Im Kreis dreht sich ihr österrei
 chischer Pop-Rock jedoch keinesfalls. Denn die Reise führt ins Ungewisse.
  Dabei wird es manchmal dunkel\, manchmal hell. Es wird in den Himmel gesc
 haut. Und hinter die Maske. Folk trifft auf Jazz. Jazz trifft auf Blues. U
 nd Niederösterreich auf Südamerika – wenn die Brasilianerin Thatiana G
 omes das Duo mit ihrer Bass-Gitarre live zum Trio macht. Ums Hineinspüren
  geht es Ringelspü\, wenn sich malerische Gitarrenriffs an fesselnde Drum
 s schmiegen. Ums Hineindenken\, wenn die Mundart-Poesie den Lachmuskel kit
 zelt und die Tränendrüse drückt. Da dreht es sich\, nuanciert und authe
 ntisch\, um den Lärm der Zeit und die Dinge des Lebens.\n\nKinder unter 1
 4 Jahren - freier Eintritt. Ermäßigung unter Vorlage der Mitgliedskarte 
 für Mitglieder der AK\, für Raiffeisen-Clubmitglieder sowie der ÖH FH S
 t. Pölten sowohl im Vorverkauf als auch an der Abendkasse.\n\nAnreise öf
 fentlich möglich!\n\n&nbsp\;
ATTACH;FMTTYPE=image/jpeg:https://www.freiraum-stp.at/wp-content/uploads/e
 vent_api/191945-517037-Klinglspu202318web-detail-400x400.jpg
LOCATION:Freiraum STP\, Herzogenburger Straße 12\, St.Pölten\, Österreic
 h
X-APPLE-STRUCTURED-LOCATION;VALUE=URI;X-ADDRESS=Herzogenburger Straße 12\,
  St.Pölten\, Österreich;X-APPLE-RADIUS=100;X-TITLE=Freiraum STP:geo:0,0
END:VEVENT
BEGIN:VTIMEZONE
TZID:Europe/Vienna
X-LIC-LOCATION:Europe/Vienna
BEGIN:STANDARD
DTSTART:20231029T020000
TZOFFSETFROM:+0200
TZOFFSETTO:+0100
TZNAME:CET
END:STANDARD
END:VTIMEZONE
END:VCALENDAR